View In:
ArcGIS JavaScript
ArcGIS Online Map Viewer
ArcGIS Earth
ArcMap
ArcGIS Pro
View Footprint In:
ArcGIS Online Map Viewer
Service Description: Ayres Associates provided Lafayette County, Wisconsin with digital, 4-band orthoimagery services in 2023 as part of WROC. The aerial imagery was collected on April 6th and 8th using a Microsoft Vexcel UltraCam Eagle M3 sensor mounted in a fixed-wing aircraft. Aerial imagery was collected to support 0.5 foot ground sample distance (GSD) orthoimagery to meet ASPRS Class II horizontal accuracy specifications at 1"=100' map scale. The 6-inch pixel orthoimagery was produced to meet or exceed a horizontal accuracy of 1.4 feet RMSE according to ASPRS Positional Accuracy Standards for Digital Geospatial Data, 2014. Resultant orthoimagery was rectified to a DEM created from existing LiDAR acquired in 2019. Orthoimagery was delivered in PLSS section GeoTiff and SID tiles and a project wide SID mosaic. The orthoimagery was delivered according to a PLSS section tile schematic. The project area covers approximately 634 square miles. Supplemental Information: The Wisconsin Regional Orthoimagery Consortium (WROC) is a multi-entity group led by regional planning commissions (RPCs) and WROC respresentatives from Ayres Associates. The goal of the consortium is to build and sustain a multi-participant program to acquire digital orthoimagery and elevation data throughout Wisconsin. Orthoimagery was collected for Lafayette County in 2023 to provide consistent deliverable products and accuracy standards for each of the participating entities.
Map Name: Layers
Legend
All Layers and Tables
Layers:
Description:
Service Item Id: 47675c46fb574b0b934fa93acdb7ce7b
Copyright Text:
Spatial Reference:
102100
(3857)
Single Fused Map Cache: true
Tile Info:
- Height: 256
- Width: 256
- DPI: 96
-
Levels of Detail: 24
-
Level ID: 0
[ Start Tile, End Tile ]
- Resolution: 156543.03392800014
- Scale: 5.91657527591555E8
-
Level ID: 1
[ Start Tile, End Tile ]
- Resolution: 78271.51696399994
- Scale: 2.95828763795777E8
-
Level ID: 2
[ Start Tile, End Tile ]
- Resolution: 39135.75848200009
- Scale: 1.47914381897889E8
-
Level ID: 3
[ Start Tile, End Tile ]
- Resolution: 19567.87924099992
- Scale: 7.3957190948944E7
-
Level ID: 4
[ Start Tile, End Tile ]
- Resolution: 9783.93962049996
- Scale: 3.6978595474472E7
-
Level ID: 5
[ Start Tile, End Tile ]
- Resolution: 4891.96981024998
- Scale: 1.8489297737236E7
- Format: MIXED
- Compression Quality: 75.0
- Origin: X: -2.0037508342787E7
Y: 2.0037508342787E7
- Spatial Reference: 102100
(3857)
Initial Extent:
XMin: -1.0073826474627262E7
YMin: 5252398.897703206
XMax: -9999795.909899468
YMax: 5283884.377340833
Spatial Reference: 102100
(3857)
Full Extent:
XMin: -1.0066764022747016E7
YMin: 5236575.190662797
XMax: -1.0000412583735777E7
YMax: 5284152.848285437
Spatial Reference: 102100
(3857)
Units: esriMeters
Supported Image Format Types: PNG32,PNG24,PNG,JPG,DIB,TIFF,EMF,PS,PDF,GIF,SVG,SVGZ,BMP
Document Info:
Title:
Author:
Comments: 2020 Aerial Imagery
Subject: 2020 Aerial Imagery
Category:
Keywords: digital,4-band,orthoimagery,6-inch,WROC,Imagery
AntialiasingMode: None
TextAntialiasingMode: Force
Supports Dynamic Layers: false
MaxRecordCount: 1000
MaxImageHeight: 4096
MaxImageWidth: 4096
Supported Query Formats: JSON, geoJSON
Supports Query Data Elements:
Min Scale: 577790.554289
Max Scale: 2256.994353
Min LOD: 10
Max LOD: 21
Supports Datum Transformation: true
Child Resources:
Info
Supported Operations:
Export Map
Find
Return Updates